OziExplorer Map Data File Version 2.2
l56-13
Y:\ozi_map\work_map\2\l56-13.jpg
1 ,Map Code,
Pulkovo 1942 (1),, 0.0000, 0.0000,WGS 84
Reserved 1
Reserved 2
Magnetic Variation,,,E
Map Projection,Transverse Mercator,PolyCal,Yes,AutoCalOnly,No,BSBUseWPX,No
Point01,xy, 143, 210,in, deg, 46, 40.0000,N, 150, 0.0000,E, grid, , , ,N
Point02,xy, 2407, 212,in, deg, 46, 40.0000,N, 150, 30.0000,E, grid, , , ,N
Point03,xy, 4670, 204,in, deg, 46, 40.0000,N, 151, 0.0000,E, grid, , , ,N
Point04,xy, 131, 2398,in, deg, 46, 20.0000,N, 150, 0.0000,E, grid, , , ,N
Point05,xy, 2409, 2402,in, deg, 46, 20.0000,N, 150, 30.0000,E, grid, , , ,N
Point06,xy, 4687, 2397,in, deg, 46, 20.0000,N, 151, 0.0000,E, grid, , , ,N
Point07,xy, 119, 4585,in, deg, 46, 0.0000,N, 150, 0.0000,E, grid, , , ,N
Point08,xy, 2409, 4590,in, deg, 46, 0.0000,N, 150, 30.0000,E, grid, , , ,N
Point09,xy, 4699, 4583,in, deg, 46, 0.0000,N, 151, 0.0000,E, grid, , , ,N
Point10,xy, , ,in, deg, , ,, , ,, grid, , , ,N
Point11,xy, , ,in, deg, , ,, , ,, grid, , , ,N
Point12,xy, , ,in, deg, , ,, , ,, grid, , , ,N
Point13,xy, , ,in, deg, , ,, , ,, grid, , , ,N
Point14,xy, , ,in, deg, , ,, , ,, grid, , , ,N
Point15,xy, , ,in, deg, , ,, , ,, grid, , , ,N
Point16,xy, , ,in, deg, , ,, , ,, grid, , , ,N
Point17,xy, , ,in, deg, , ,, , ,, grid, , , ,N
Point18,xy, , ,in, deg, , ,, , ,, grid, , , ,N
Point19,xy, , ,in, deg, , ,, , ,, grid, , , ,N
Point20,xy, , ,in, deg, , ,, , ,, grid, , , ,N
Point21,xy, , ,in, deg, , ,, , ,, grid, , , ,N
Point22,xy, , ,in, deg, , ,, , ,, grid, , , ,N
Point23,xy, , ,in, deg, , ,, , ,, grid, , , ,N
Point24,xy, , ,in, deg, , ,, , ,, grid, , , ,N
Point25,xy, , ,in, deg, , ,, , ,, grid, , , ,N
Point26,xy, , ,in, deg, , ,, , ,, grid, , , ,N
Point27,xy, , ,in, deg, , ,, , ,, grid, , , ,N
Point28,xy, , ,in, deg, , ,, , ,, grid, , , ,N
Point29,xy, , ,in, deg, , ,, , ,, grid, , , ,N
Point30,xy, , ,in, deg, , ,, , ,, grid, , , ,N
Projection Setup, 0.000000000, 153.000000000, 1.000000000, 26500000.00, 0.00,,,,,
Map Feature = MF ; Map Comment = MC These follow if they exist
Track File = TF These follow if they exist
Moving Map Parameters = MM? These follow if they exist
MM0,Yes
MMPNUM,4
MMPXY,1,141,207
MMPXY,2,4673,199
MMPXY,3,4702,4586
MMPXY,4,117,4586
MMPLL,1, 149.999621, 46.667035
MMPLL,2, 151.000558, 46.667491
MMPLL,3, 151.000577, 45.999661
MMPLL,4, 149.999664, 45.999814
MM1B,16.898377
Other Grid Setup
GRGRID,Yes,4 Km,No,16711680,255,4 Km,0,16777215,8,0,Yes,Yes,No,x
MOP,Map Open Position,0,0
IWH,Map Image Width/Height,4800,4680
